BEGIN:VCALENDAR
VERSION:2.0
PRODID:-//EduMat - ECPv6.15.20//NONSGML v1.0//EN
CALSCALE:GREGORIAN
METHOD:PUBLISH
X-WR-CALNAME:EduMat
X-ORIGINAL-URL:https://www.edumat.eu
X-WR-CALDESC:Događaji za EduMat
REFRESH-INTERVAL;VALUE=DURATION:PT1H
X-Robots-Tag:noindex
X-PUBLISHED-TTL:PT1H
BEGIN:VTIMEZONE
TZID:Europe/Zagreb
BEGIN:DAYLIGHT
TZOFFSETFROM:+0100
TZOFFSETTO:+0200
TZNAME:CEST
DTSTART:20230326T010000
END:DAYLIGHT
BEGIN:STANDARD
TZOFFSETFROM:+0200
TZOFFSETTO:+0100
TZNAME:CET
DTSTART:20231029T010000
END:STANDARD
BEGIN:DAYLIGHT
TZOFFSETFROM:+0100
TZOFFSETTO:+0200
TZNAME:CEST
DTSTART:20240331T010000
END:DAYLIGHT
BEGIN:STANDARD
TZOFFSETFROM:+0200
TZOFFSETTO:+0100
TZNAME:CET
DTSTART:20241027T010000
END:STANDARD
BEGIN:DAYLIGHT
TZOFFSETFROM:+0100
TZOFFSETTO:+0200
TZNAME:CEST
DTSTART:20250330T010000
END:DAYLIGHT
BEGIN:STANDARD
TZOFFSETFROM:+0200
TZOFFSETTO:+0100
TZNAME:CET
DTSTART:20251026T010000
END:STANDARD
BEGIN:DAYLIGHT
TZOFFSETFROM:+0100
TZOFFSETTO:+0200
TZNAME:CEST
DTSTART:20260329T010000
END:DAYLIGHT
BEGIN:STANDARD
TZOFFSETFROM:+0200
TZOFFSETTO:+0100
TZNAME:CET
DTSTART:20261025T010000
END:STANDARD
END:VTIMEZONE
BEGIN:VEVENT
DTSTART;TZID=Europe/Zagreb:20250827T180000
DTEND;TZID=Europe/Zagreb:20250827T200000
DTSTAMP:20260419T144648
CREATED:20241013T195451Z
LAST-MODIFIED:20241013T195504Z
UID:1361-1756317600-1756324800@www.edumat.eu
SUMMARY:EduMat MeetUP #10
DESCRIPTION:EduMat MeetUP je mjesečno okupljanje učitelja\, edukatora i stručnjaka u obrazovanju koje organizira platforma EduMat. Ova događanja pružaju priliku za profesionalno usavršavanje\, razmjenu ideja i primjera dobre prakse te povezivanje s kolegama iz cijele zajednice. \nDetalji slijede… Ovo je samo da si rezervirate termin kao predavač ili kao slušatelj. \nTeme i predavači: \n\n“Prva školska godina EduMata – prvi mačići? (Miljenko Hajdarović)
URL:https://www.edumat.eu/event/edumat-meetup-10/
LOCATION:Zoom
CATEGORIES:EduMat MeetUP
ATTACH;FMTTYPE=image/jpeg:https://www.edumat.eu/wp-content/uploads/2024/10/meetup-poziv-10.jpg
ORGANIZER;CN="EduMat":MAILTO:edumatshop@gmail.com
END:VEVENT
BEGIN:VEVENT
DTSTART;TZID=Europe/Zagreb:20250703T180000
DTEND;TZID=Europe/Zagreb:20250703T200000
DTSTAMP:20260419T144648
CREATED:20241013T195238Z
LAST-MODIFIED:20241013T195238Z
UID:1358-1751565600-1751572800@www.edumat.eu
SUMMARY:EduMat MeetUP #9
DESCRIPTION:EduMat MeetUP je mjesečno okupljanje učitelja\, edukatora i stručnjaka u obrazovanju koje organizira platforma EduMat. Ova događanja pružaju priliku za profesionalno usavršavanje\, razmjenu ideja i primjera dobre prakse te povezivanje s kolegama iz cijele zajednice. \nDetalji slijede… Ovo je samo da si rezervirate termin kao predavač ili kao slušatelj.
URL:https://www.edumat.eu/event/edumat-meetup-9/
LOCATION:Zoom
CATEGORIES:EduMat MeetUP
ATTACH;FMTTYPE=image/jpeg:https://www.edumat.eu/wp-content/uploads/2024/10/meetup-poziv-09.jpg
ORGANIZER;CN="EduMat":MAILTO:edumatshop@gmail.com
END:VEVENT
BEGIN:VEVENT
DTSTART;TZID=Europe/Zagreb:20250603T180000
DTEND;TZID=Europe/Zagreb:20250603T200000
DTSTAMP:20260419T144648
CREATED:20241013T195139Z
LAST-MODIFIED:20241013T195139Z
UID:1355-1748973600-1748980800@www.edumat.eu
SUMMARY:EduMat MeetUP #8
DESCRIPTION:EduMat MeetUP je mjesečno okupljanje učitelja\, edukatora i stručnjaka u obrazovanju koje organizira platforma EduMat. Ova događanja pružaju priliku za profesionalno usavršavanje\, razmjenu ideja i primjera dobre prakse te povezivanje s kolegama iz cijele zajednice. \nDetalji slijede… Ovo je samo da si rezervirate termin kao predavač ili kao slušatelj.
URL:https://www.edumat.eu/event/edumat-meetup-8/
LOCATION:Zoom
CATEGORIES:EduMat MeetUP
ATTACH;FMTTYPE=image/jpeg:https://www.edumat.eu/wp-content/uploads/2024/10/meetup-poziv-08.jpg
ORGANIZER;CN="EduMat":MAILTO:edumatshop@gmail.com
END:VEVENT
BEGIN:VEVENT
DTSTART;TZID=Europe/Zagreb:20250507T180000
DTEND;TZID=Europe/Zagreb:20250507T193000
DTSTAMP:20260419T144648
CREATED:20241013T194847Z
LAST-MODIFIED:20241013T194847Z
UID:1350-1746640800-1746646200@www.edumat.eu
SUMMARY:EduMat MeetUP #7
DESCRIPTION:EduMat MeetUP je mjesečno okupljanje učitelja\, edukatora i stručnjaka u obrazovanju koje organizira platforma EduMat. Ova događanja pružaju priliku za profesionalno usavršavanje\, razmjenu ideja i primjera dobre prakse te povezivanje s kolegama iz cijele zajednice. \nDetalji slijede… Ovo je samo da si rezervirate termin kao predavač ili kao slušatelj.
URL:https://www.edumat.eu/event/edumat-meetup-7/
LOCATION:Zoom
CATEGORIES:EduMat MeetUP
ATTACH;FMTTYPE=image/jpeg:https://www.edumat.eu/wp-content/uploads/2024/10/meetup-poziv-07.jpg
ORGANIZER;CN="EduMat":MAILTO:edumatshop@gmail.com
END:VEVENT
BEGIN:VEVENT
DTSTART;TZID=Europe/Zagreb:20250409T180000
DTEND;TZID=Europe/Zagreb:20250409T200000
DTSTAMP:20260419T144648
CREATED:20241013T194622Z
LAST-MODIFIED:20241013T194634Z
UID:1347-1744221600-1744228800@www.edumat.eu
SUMMARY:EduMat MeetUP #6
DESCRIPTION:EduMat MeetUP je mjesečno okupljanje učitelja\, edukatora i stručnjaka u obrazovanju koje organizira platforma EduMat. Ova događanja pružaju priliku za profesionalno usavršavanje\, razmjenu ideja i primjera dobre prakse te povezivanje s kolegama iz cijele zajednice. \nDetalji slijede… Ovo je samo da si rezervirate termin kao predavač ili kao slušatelj.
URL:https://www.edumat.eu/event/edumat-meetup-6/
LOCATION:Zoom
CATEGORIES:EduMat MeetUP
ATTACH;FMTTYPE=image/jpeg:https://www.edumat.eu/wp-content/uploads/2024/10/meetup-poziv-06.jpg
ORGANIZER;CN="EduMat":MAILTO:edumatshop@gmail.com
END:VEVENT
BEGIN:VEVENT
DTSTART;TZID=Europe/Zagreb:20250305T180000
DTEND;TZID=Europe/Zagreb:20250305T200000
DTSTAMP:20260419T144648
CREATED:20241013T192229Z
LAST-MODIFIED:20241013T192229Z
UID:1321-1741197600-1741204800@www.edumat.eu
SUMMARY:EduMat MeetUP #5
DESCRIPTION:EduMat MeetUP je mjesečno okupljanje učitelja\, edukatora i stručnjaka u obrazovanju koje organizira platforma EduMat. Ova događanja pružaju priliku za profesionalno usavršavanje\, razmjenu ideja i primjera dobre prakse te povezivanje s kolegama iz cijele zajednice. \nDetalji slijede… Ovo je samo da si rezervirate termin kao predavač ili kao slušatelj.
URL:https://www.edumat.eu/event/edumat-meetup-5/
LOCATION:Zoom
CATEGORIES:EduMat MeetUP
ATTACH;FMTTYPE=image/jpeg:https://www.edumat.eu/wp-content/uploads/2024/10/meetup-poziv-05.jpg
ORGANIZER;CN="EduMat":MAILTO:edumatshop@gmail.com
END:VEVENT
BEGIN:VEVENT
DTSTART;TZID=Europe/Zagreb:20250205T180000
DTEND;TZID=Europe/Zagreb:20250205T200000
DTSTAMP:20260419T144648
CREATED:20241013T191813Z
LAST-MODIFIED:20241013T191813Z
UID:1316-1738778400-1738785600@www.edumat.eu
SUMMARY:EduMat MeetUP #4
DESCRIPTION:EduMat MeetUP je mjesečno okupljanje učitelja\, edukatora i stručnjaka u obrazovanju koje organizira platforma EduMat. Ova događanja pružaju priliku za profesionalno usavršavanje\, razmjenu ideja i primjera dobre prakse te povezivanje s kolegama iz cijele zajednice. \nDetalji slijede… Ovo je samo da si rezervirate termin kao predavač ili kao slušatelj.
URL:https://www.edumat.eu/event/edumat-meetup-4/
LOCATION:Zoom
CATEGORIES:EduMat MeetUP
ATTACH;FMTTYPE=image/jpeg:https://www.edumat.eu/wp-content/uploads/2024/10/meetup-poziv-04.jpg
ORGANIZER;CN="EduMat":MAILTO:edumatshop@gmail.com
END:VEVENT
BEGIN:VEVENT
DTSTART;TZID=Europe/Zagreb:20250115T180000
DTEND;TZID=Europe/Zagreb:20250115T200000
DTSTAMP:20260419T144648
CREATED:20241013T191327Z
LAST-MODIFIED:20241013T191327Z
UID:1309-1736964000-1736971200@www.edumat.eu
SUMMARY:EduMat MeetUP #3
DESCRIPTION:EduMat MeetUP je mjesečno okupljanje učitelja\, edukatora i stručnjaka u obrazovanju koje organizira platforma EduMat. Ova događanja pružaju priliku za profesionalno usavršavanje\, razmjenu ideja i primjera dobre prakse te povezivanje s kolegama iz cijele zajednice. \nDetalji slijede… Ovo je samo da si rezervirate termin kao predavač ili kao slušatelj.
URL:https://www.edumat.eu/event/edumat-meetup-3/
LOCATION:Zoom
CATEGORIES:EduMat MeetUP
ATTACH;FMTTYPE=image/jpeg:https://www.edumat.eu/wp-content/uploads/2024/10/meetup-poziv-03.jpg
ORGANIZER;CN="EduMat":MAILTO:edumatshop@gmail.com
END:VEVENT
BEGIN:VEVENT
DTSTART;TZID=Europe/Zagreb:20241105T180000
DTEND;TZID=Europe/Zagreb:20241105T193000
DTSTAMP:20260419T144648
CREATED:20240929T124314Z
LAST-MODIFIED:20240929T124314Z
UID:641-1730829600-1730835000@www.edumat.eu
SUMMARY:EduMat MeetUP #1
DESCRIPTION:Dragi članovi EduMat zajednice\, sa zadovoljstvom vas pozivamo na naš prvi EduMat MeetUP\, koji će se održati 5. studenog 2024. s početkom u 18.00 sati putem Zoom platforme. Ovo okupljanje prilika je da se povežemo\, razmijenimo ideje i inspiriramo se međusobnim iskustvima! \nŠto očekivati?\nNa MeetUP-u će sudjelovati četiri izlagača\, svaki s izlaganjem od 15 minuta\, nakon čega slijedi 5 minuta za diskusiju i pitanja publike. Nakon svih izlaganja\, predviđen je otvoreni podij za dodatne rasprave\, gdje ćemo moći produbiti teme i podijeliti svoje mišljenje i iskustva. \nPoziv za izlagače\nPozivamo četiri izlagača iz redova članova EduMat-a da se prijave i podijele svoje znanje i iskustvo s kolegama. Ako želite biti jedan od izlagača\, prijavite se putem prijavnog obrasca do 20. listopada 2024. Izlagači će nakon MeetUP-a dobiti besplatnu potvrdu o održanom predavanju. Popis izlagača ćemo objaviti po završetku prijava izlagača. \nPoziv za slušatelje\nPrijave su otvorene za 40 slušatelja koji žele sudjelovati i obogatiti svoje nastavničke vještine kroz ovaj događaj. Svi prijavljeni slušatelji imat će priliku sudjelovati u diskusijama te postavljati pitanja izlagačima. Na kraju događaja\, svi sudionici mogu dobiti potvrdu o usavršavanju uz simboličnu nadoplatu. Prijaviti se možete na ovoj poveznici. \nNapomene\n\nMeetUP se snima\, ali će za ponovni pregled biti dostupna samo izlaganja\, bez rasprava\, kako bismo zaštitili privatnost i otvorenost diskusije.\nPotvrde o usavršavanju bit će dostupne nakon događaja\, a izdaju se uz nadoplatu.\nTijekom MeetUP-a ćemo proslijediti obrasce za evaluaciju predavača.
URL:https://www.edumat.eu/event/edumat-meetup-1/
LOCATION:Zoom
CATEGORIES:EduMat MeetUP,Online
ATTACH;FMTTYPE=image/jpeg:https://www.edumat.eu/wp-content/uploads/2024/09/meetup-poziv-1.jpg
ORGANIZER;CN="EduMat":MAILTO:edumatshop@gmail.com
END:VEVENT
END:VCALENDAR