BEGIN:VCALENDAR
VERSION:2.0
PRODID:-//EduMat - ECPv6.15.20//NONSGML v1.0//EN
CALSCALE:GREGORIAN
METHOD:PUBLISH
X-WR-CALNAME:EduMat
X-ORIGINAL-URL:https://www.edumat.eu
X-WR-CALDESC:Događaji za EduMat
REFRESH-INTERVAL;VALUE=DURATION:PT1H
X-Robots-Tag:noindex
X-PUBLISHED-TTL:PT1H
BEGIN:VTIMEZONE
TZID:Europe/Zagreb
BEGIN:DAYLIGHT
TZOFFSETFROM:+0100
TZOFFSETTO:+0200
TZNAME:CEST
DTSTART:20240331T010000
END:DAYLIGHT
BEGIN:STANDARD
TZOFFSETFROM:+0200
TZOFFSETTO:+0100
TZNAME:CET
DTSTART:20241027T010000
END:STANDARD
BEGIN:DAYLIGHT
TZOFFSETFROM:+0100
TZOFFSETTO:+0200
TZNAME:CEST
DTSTART:20250330T010000
END:DAYLIGHT
BEGIN:STANDARD
TZOFFSETFROM:+0200
TZOFFSETTO:+0100
TZNAME:CET
DTSTART:20251026T010000
END:STANDARD
BEGIN:DAYLIGHT
TZOFFSETFROM:+0100
TZOFFSETTO:+0200
TZNAME:CEST
DTSTART:20260329T010000
END:DAYLIGHT
BEGIN:STANDARD
TZOFFSETFROM:+0200
TZOFFSETTO:+0100
TZNAME:CET
DTSTART:20261025T010000
END:STANDARD
END:VTIMEZONE
BEGIN:VEVENT
DTSTART;TZID=Europe/Zagreb:20250623T180000
DTEND;TZID=Europe/Zagreb:20250623T193000
DTSTAMP:20260419T161804
CREATED:20241013T194000Z
LAST-MODIFIED:20241126T101345Z
UID:1338-1750701600-1750707000@www.edumat.eu
SUMMARY:Antifašizam kao uvreda
DESCRIPTION:Edukacija pod naslovom “Antifašizam kao uvreda\,” baviti će se povijesnim\, društvenim i suvremenim pitanjima vezanima uz antifašizam. Edukacija je organizirana povodom obilježavanja 80. godišnjice pobjede nad fašizmom i nacizmom\, a namijenjena je učiteljima povijesti\, studentima društvenih znanosti te svima zainteresiranima za kritičko promišljanje uloge antifašizma u povijesti i suvremenom društvu. \n\n\n\n\n\n\n\nCiljevi edukacije\n\n\n\nGlavni cilj edukacije je analizirati današnje percepcije antifašizma u Europi i svijetu\, uključujući razloge zašto se antifašizam ponekad doživljava kao kontroverzan\, nepoželjan ili čak uvredljiv pojam. Edukacija će pružiti povijesni kontekst\, osvrćući se na: \n\n\n\n\n\n🎯 Ulogu antifašizma tijekom Drugog svjetskog rata – kako su se antifašistički pokreti formirali\, s kakvim su se izazovima suočavali te kakav je bio njihov doprinos pobjedi nad fašizmom i nacizmom. \n\n\n\n🎯 Antifašizam kao mjesto emancipacije – kako su antifašistički pokreti služili kao platforme za društvenu i političku emancipaciju marginaliziranih skupina tijekom 20. stoljeća te što to znači za današnje borbe za ravnopravnost i pravdu. \n\n\n\n\n\n🎯 Dugoročne reakcije i transformaciju antifašizma – kako su se promjene u politici i društvu odražavale na percepciju antifašizma nakon rata. \n\n\n\n🎯 Suvremene kontroverze i revizionizam – zašto se antifašistička retorika danas suočava s otporom te kako se povijesni narativi o antifašizmu reinterpretiraju u političke svrhe. \n\n\n\n\n\n \n\n\n\n \n\n\n\nZašto je edukacija važna?\n\n\n\nU trenutku kada se antifašističke vrijednosti\, poput jednakosti\, solidarnosti i slobode\, sve češće dovode u pitanje\, važno je razumjeti povijesne korijene i suvremene izazove s kojima se ideja antifašizma suočava. Edukacija nastoji osvijestiti sudionike o važnosti kritičkog promišljanja prošlosti i utjecaja povijesti na današnje društvo. \n\n\n\n\n\n\n\nDetalji o edukaciji\n\n\n\n\n\n📅 Datum i vrijeme: 23. lipnja 2025. u 18.00 \n\n\n\n💻 Platforma: Zoom \n\n\n\n⌛ Trajanje: 90 minuta \n\n\n\n⚠ Napomene: Edukacija se ne snima. Izdajemo potvrde o usavršavanju. \n\n\n\n\n\n🔖 Cijena: 10€ \n\n\n[purchase_link id=”1928″ text=”Dodaj u košaricu” style=”button” color=”blue”] \n\n\n\n\n\n\n\n\n\nAntifašizam nije samo povijesni pojam; to je i vrijednosni okvir koji i danas ima važnu ulogu u oblikovanju demokratskog društva. Pridružite se ovoj edukaciji i sudjelujte u promišljanju ključnih pitanja o prošlosti\, sadašnjosti i budućnosti antifašizma.
URL:https://www.edumat.eu/event/antifasizam-kao-uvreda/
LOCATION:Zoom
CATEGORIES:Clionaut Akademija
ATTACH;FMTTYPE=image/jpeg:https://www.edumat.eu/wp-content/uploads/2024/10/antifa-uvreda-naslovna.jpg
ORGANIZER;CN="ClioNaut Akademija":MAILTO:clionautakademija@gmail.com
END:VEVENT
END:VCALENDAR