BEGIN:VCALENDAR
VERSION:2.0
PRODID:-//EduMat - ECPv6.15.20//NONSGML v1.0//EN
CALSCALE:GREGORIAN
METHOD:PUBLISH
X-WR-CALNAME:EduMat
X-ORIGINAL-URL:http://www.edumat.eu
X-WR-CALDESC:Događaji za EduMat
REFRESH-INTERVAL;VALUE=DURATION:PT1H
X-Robots-Tag:noindex
X-PUBLISHED-TTL:PT1H
BEGIN:VTIMEZONE
TZID:Europe/Zagreb
BEGIN:DAYLIGHT
TZOFFSETFROM:+0100
TZOFFSETTO:+0200
TZNAME:CEST
DTSTART:20230326T010000
END:DAYLIGHT
BEGIN:STANDARD
TZOFFSETFROM:+0200
TZOFFSETTO:+0100
TZNAME:CET
DTSTART:20231029T010000
END:STANDARD
BEGIN:DAYLIGHT
TZOFFSETFROM:+0100
TZOFFSETTO:+0200
TZNAME:CEST
DTSTART:20240331T010000
END:DAYLIGHT
BEGIN:STANDARD
TZOFFSETFROM:+0200
TZOFFSETTO:+0100
TZNAME:CET
DTSTART:20241027T010000
END:STANDARD
BEGIN:DAYLIGHT
TZOFFSETFROM:+0100
TZOFFSETTO:+0200
TZNAME:CEST
DTSTART:20250330T010000
END:DAYLIGHT
BEGIN:STANDARD
TZOFFSETFROM:+0200
TZOFFSETTO:+0100
TZNAME:CET
DTSTART:20251026T010000
END:STANDARD
BEGIN:DAYLIGHT
TZOFFSETFROM:+0100
TZOFFSETTO:+0200
TZNAME:CEST
DTSTART:20260329T010000
END:DAYLIGHT
BEGIN:STANDARD
TZOFFSETFROM:+0200
TZOFFSETTO:+0100
TZNAME:CET
DTSTART:20261025T010000
END:STANDARD
END:VTIMEZONE
BEGIN:VEVENT
DTSTART;TZID=Europe/Zagreb:20250827T180000
DTEND;TZID=Europe/Zagreb:20250827T200000
DTSTAMP:20260423T153041
CREATED:20241013T195451Z
LAST-MODIFIED:20241013T195504Z
UID:1361-1756317600-1756324800@www.edumat.eu
SUMMARY:EduMat MeetUP #10
DESCRIPTION:EduMat MeetUP je mjesečno okupljanje učitelja\, edukatora i stručnjaka u obrazovanju koje organizira platforma EduMat. Ova događanja pružaju priliku za profesionalno usavršavanje\, razmjenu ideja i primjera dobre prakse te povezivanje s kolegama iz cijele zajednice. \nDetalji slijede… Ovo je samo da si rezervirate termin kao predavač ili kao slušatelj. \nTeme i predavači: \n\n“Prva školska godina EduMata – prvi mačići? (Miljenko Hajdarović)
URL:http://www.edumat.eu/event/edumat-meetup-10/
LOCATION:Zoom
CATEGORIES:EduMat MeetUP
ATTACH;FMTTYPE=image/jpeg:http://www.edumat.eu/wp-content/uploads/2024/10/meetup-poziv-10.jpg
ORGANIZER;CN="EduMat":MAILTO:edumatshop@gmail.com
END:VEVENT
BEGIN:VEVENT
DTSTART;TZID=Europe/Zagreb:20250602T180000
DTEND;TZID=Europe/Zagreb:20250602T190000
DTSTAMP:20260423T153041
CREATED:20241013T195013Z
LAST-MODIFIED:20241013T195013Z
UID:1353-1748887200-1748890800@www.edumat.eu
SUMMARY:Promocija 1. broja časopisa EduMat
DESCRIPTION:Detalji slijede… Ovo je samo da si rezervirate termin.
URL:http://www.edumat.eu/event/promocija-1-broja-casopisa-edumat/
LOCATION:Zoom
CATEGORIES:Online
ORGANIZER;CN="EduMat":MAILTO:edumatshop@gmail.com
END:VEVENT
BEGIN:VEVENT
DTSTART;TZID=Europe/Zagreb:20241210T180000
DTEND;TZID=Europe/Zagreb:20241210T193000
DTSTAMP:20260423T153041
CREATED:20241114T141042Z
LAST-MODIFIED:20241126T141337Z
UID:1536-1733853600-1733859000@www.edumat.eu
SUMMARY:Osnove umjetne inteligencije za učitelje (4. grupa)
DESCRIPTION:ChatGPT je krajem studenog 2024. tek navršio drugu godinu izlaska iz ormara i već se čini da je umjetna inteligencija odjednom svugdje oko nas. Trebale su nam godine da pređemo s prozirnica i grafoskopa na računala\, prezentacije i druga digitalna čudesa. Umjetna inteligencija je u manje od dvije godine ušla u naše škole kao stvar za koju se podrazumijeva da svi razumijemo i koristimo. No\, što je zapravo umjetna inteligencija\, što se skriva iza kratice AI i je li stvarno toliko inteligentna? \n\n\n\n\n\n\n\nBez obzira na vaše predznanje ili neznanje krenimo od samih osnova. U ovoj edukaciji ćemo definirati što je umjetna inteligencija\, koje su vrste AI\, što je generativna umjetna inteligencija\, a što je multimodalna AI. I naposljetku ćemo provjeriti što okvirno mogu ili ne mogu ChatGPT\, Gemini i Microsoft Copilot. Na kraju krajeva\, ako već postoje zašto nam ne bi pomogli i skratili vrijeme pripreme za nastavu. \n\n\n\n\n\n\n\n📅 Datum: 10. prosinac 2024.⏰ Vrijeme: 18.00 – 19.30📍 Platforma: Zoom💶 Cijena: 15 € \n\n\n\n👥 Ciljana skupina: učitelji razredne i predmetne nastave \n\n\n\n\n\n\n\nCiljevi edukacije\n\n\n\nCiljevi edukacije su: \n\n\n\n\n📌 upoznati sudionike s osnovnim definicijama i konceptima umjetne inteligencije; \n\n\n\n📌 prepoznati izazove i ograničenja korištenja generativne umjetne inteligencije; \n\n\n\n📌 identificirati ključna područja u kojima generativna umjetna inteligencija može pomoći učiteljima; \n\n\n\n📌 razviti svijest o alatima i platformama koje koriste AI te kako ih učinkovito integrirati u nastavu; \n\n\n\n📌 demonstrirati osnovne primjere korištenja GenAI alata. \n\n\n\n\n\n\n\n\nŠto je uključeno?\n\n\n\nU cijenu edukacije je uključeno: \n\n\n\n\n\n➡ snimka edukacije dostupna ISKLJUČIVO polaznicima (do 30 dana nakon edukacije)\, \n\n\n\n➡ online provjera znanja\, \n\n\n\n\n\n➡ digitalni priručnik (PDF 40+ str.)\, \n\n\n\n➡ potvrda o usavršavanju. \n\n\n\n\n\n \n\n\n\n\n\n\n\nO predavaču\n\n\n\nEdukaciju vodi Miljenko Hajdarović\, digitalni entuzijast koji se već više od 20 godina praktično i akademski bavi primjenom digitalnih tehnologija u obrazovanju. Vijeće Europe i Europska unija dodijelile su mu 2023. godinu istraživačku stipendiju za analizu upotrebljivosti nadolazećih digitalnih tehnologija u poučavanju povijesti. Međunarodni institut za istraživanje obrazovnih medija u Braunschweigu dodijelio mu je 2024. stipendiju za istraživanje utjecaja umjetne inteligencije na poučavanje povijesti. Hajdarović je trenutno doktorski kandidat interdisciplinarnog studija obrazovnih znanosti s istraživanjem o budućnosti poučavanja povijesti. Popis radova možete pogledati na Google Schoolar. \n\n\n\n\n\n\n\n\n\nNakon realizirane kupnje preuzimate upute za priključivanje na edukaciju\, a račun vam stiže na e-mail koji ste upisali. \n\n\n\n\n[purchase_link id=”1542″ text=”Dodaj u košaricu” style=”button” color=”blue”] \n\n\n\n\n\n\n\n\n\nEdukacija o osnovama umjetne inteligencije se ponavlja svaki mjesec tijekom školske godine 2024./2025.
URL:http://www.edumat.eu/event/osnove-umjetne-inteligencije-za-ucitelje-4-grupa/
LOCATION:Zoom
CATEGORIES:EduMat edukacije
ATTACH;FMTTYPE=image/jpeg:http://www.edumat.eu/wp-content/uploads/2024/10/AI-ucitelji-naslovna.jpg
ORGANIZER;CN="EduMat":MAILTO:edumatshop@gmail.com
END:VEVENT
BEGIN:VEVENT
DTSTART;TZID=Europe/Zagreb:20241125T193000
DTEND;TZID=Europe/Zagreb:20241125T203000
DTSTAMP:20260423T153041
CREATED:20240930T135320Z
LAST-MODIFIED:20241015T161355Z
UID:690-1732563000-1732566600@www.edumat.eu
SUMMARY:Webinar: Kako kreativci mogu zaraditi pretvaranjem ideje u fizički proizvod
DESCRIPTION:Želite li saznati kako svoje kreativne ideje pretvoriti u proizvode i dodatno zaraditi? Pridružite nam se na ekskluzivnom webinaru koji će vam pokazati kako koristiti Printify platformu za prodaju vlastitih dizajna! \nSkraćeno i pojednostavljeno print-on-demand je tvrtka koja vašu ideju stavlja na proizvod. Recimo vaš crtež ili misao na šalicu\, majicu\, notes\, platnenu vrećicu i sl. Vi takvu robu možete naručiti za sebe ili od toga probati napraviti mali biznis. \n\nO tome što je print-on-demand\, kako posluje\, što je Printify\, kako iskoristiti mogućnosti i probati zaraditi doznajte na webinaru. Uz webinar svaki polaznik će svoje znanje moći provjeriti u kvizu znanja\, a kao pomoć će poslužiti i besplatni digitalni priručnik koji stiže uz edukaciju. \n\n\nRezervirajte svoje mjestu među 20 slobodnih mjesta na edukaciji. \n\n📅 Datum: 25. studeni 2024.\n⏰ Vrijeme: 19.30\n📍 Platforma: Zoom\n💶 Cijena: 10 €\n👥 Broj sudionika je ograničen na 20! \n\nDetalji na web stranici događaja. \n\n[purchase_link id=”677″ text=”Dodaj u košaricu” style=”button” color=”blue”]
URL:http://www.edumat.eu/event/webinar-kako-kreativci-mogu-zaraditi-pretvaranjem-ideje-u-fizicki-proizvod/
LOCATION:Zoom
CATEGORIES:Online
ATTACH;FMTTYPE=image/jpeg:http://www.edumat.eu/wp-content/uploads/edd/2024/09/printify.jpg
ORGANIZER;CN="EduMat":MAILTO:edumatshop@gmail.com
END:VEVENT
BEGIN:VEVENT
DTSTART;TZID=Europe/Zagreb:20241107T180000
DTEND;TZID=Europe/Zagreb:20241107T190000
DTSTAMP:20260423T153041
CREATED:20241007T163851Z
LAST-MODIFIED:20241008T175844Z
UID:842-1731002400-1731006000@www.edumat.eu
SUMMARY:Webinar: Što je EduMat? 2 (besplatno)
DESCRIPTION:EduMat je novootvorena (hrvatska) digitalna trgovina edukacijskih materijala. Informativni webinar o platformi EduMat je besplatan za sve zainteresirane. \n\n\n\nMiljenko Hajdarović\, pokretač platforme EduMat\, će pojasniti glavnu ideju oko pokretanja platforme\, pojasniti kako sudjelovati i koje su sve mogućnosti Edumata. \n\n\n\nSudionici imaju priliku postavljati pitanja i razmijeniti mišljenja. \n\n\n\nWebinar se ne snima. Predviđeno trajanje je do 45 minuta (ovisno o sudjelovanju publike). \n\n\n\nWebinar se održava 7. studenog 2024. s početkom u 18.00 sati putem platforme Zoom. Registracija je potrebna i ograničena na 20 slušatelja. \nRegistrirajte se na ovoj poveznici.
URL:http://www.edumat.eu/event/webinar-sto-je-edumat-2/
LOCATION:Zoom
CATEGORIES:Online
ATTACH;FMTTYPE=image/jpeg:http://www.edumat.eu/wp-content/uploads/2024/09/sto-je-edumat.jpg
ORGANIZER;CN="EduMat":MAILTO:edumatshop@gmail.com
END:VEVENT
BEGIN:VEVENT
DTSTART;TZID=Europe/Zagreb:20241028T180000
DTEND;TZID=Europe/Zagreb:20241028T190000
DTSTAMP:20260423T153041
CREATED:20241020T083510Z
LAST-MODIFIED:20241020T083555Z
UID:1427-1730138400-1730142000@www.edumat.eu
SUMMARY:Webinar: Što je EduMat? 2 (besplatno)
DESCRIPTION:EduMat je novootvorena (hrvatska) digitalna trgovina edukacijskih materijala. Informativni webinar o platformi EduMat je besplatan za sve zainteresirane. \nMiljenko Hajdarović\, pokretač platforme EduMat\, će pojasniti glavnu ideju oko pokretanja platforme\, pojasniti kako sudjelovati i koje su sve mogućnosti EduMata. \nSudionici imaju priliku postavljati pitanja i razmijeniti mišljenja. \nWebinar se odvija putem Zoom platforme i ne snima se. Predviđeno trajanje je do 45 minuta (ovisno o sudjelovanju publike). \n🕕 Termin: ponedjeljak 28. listopada 2024. u 18.00 sati \n⚠ Registracija je obavezna na ovoj poveznici.
URL:http://www.edumat.eu/event/webinar-sto-je-edumat-2-besplatno/
LOCATION:Zoom
CATEGORIES:Online
ATTACH;FMTTYPE=image/jpeg:http://www.edumat.eu/wp-content/uploads/2024/09/sto-je-edumat.jpg
ORGANIZER;CN="EduMat":MAILTO:edumatshop@gmail.com
END:VEVENT
BEGIN:VEVENT
DTSTART;TZID=Europe/Zagreb:20241021T193000
DTEND;TZID=Europe/Zagreb:20241021T203000
DTSTAMP:20260423T153041
CREATED:20240929T103953Z
LAST-MODIFIED:20241013T071229Z
UID:633-1729539000-1729542600@www.edumat.eu
SUMMARY:EduMat - što i kako prodati? 1
DESCRIPTION:Informativni webinar za Prodavače na EduMatu. \nVoditelj seminara je Miljenko Hajdarović\, osnivač i voditelj platforme EduMat. \n\nO čemu ćemo razgovarati?\nTijekom predavanja pokriti ćemo sljedeće teme: \n\nKako oblikovati dobar prodajni oglas?\nKako postaviti cijenu proizvoda ili usluge?\nKoja je razlika između aktivnih i pasivnih prodajnih aktivnosti i proizvoda?\nKako nadograditi i razgranati pojedinačni proizvod?\nMožemo li razviti vlastiti brand?\n\n\nSvaki polaznik će dobiti primjerak digitalnog priručnika na ovu temu. \nBroj polaznika je ograničen na 20 i webinar se plaća na ovoj poveznici. \nNAPOMENA: Sudjelovati mogu samo članovi platforme EduMat koji su platili članarinu do 19. listopada 2024. \n\n[purchase_link id=”650″ text=”Dodaj u košaricu” style=”button” color=”blue”]
URL:http://www.edumat.eu/event/edumat-sto-i-kako-prodati/
LOCATION:Zoom
CATEGORIES:Online
ATTACH;FMTTYPE=image/jpeg:http://www.edumat.eu/wp-content/uploads/edd/2024/09/EduMat-prodavac.jpg
ORGANIZER;CN="EduMat":MAILTO:edumatshop@gmail.com
END:VEVENT
BEGIN:VEVENT
DTSTART;TZID=Europe/Zagreb:20241007T180000
DTEND;TZID=Europe/Zagreb:20241007T190000
DTSTAMP:20260423T153041
CREATED:20240929T102352Z
LAST-MODIFIED:20241001T145137Z
UID:622-1728324000-1728327600@www.edumat.eu
SUMMARY:Webinar: Što je EduMat? 1
DESCRIPTION:EduMat je novootvorena (hrvatska) digitalna trgovina edukacijskih materijala. Informativni webinar o platformi EduMat je besplatan za sve zainteresirane. \n\n\n\nMiljenko Hajdarović\, pokretač platforme EduMat\, će pojasniti glavnu ideju oko pokretanja platforme\, pojasniti kako sudjelovati i koje su sve mogućnosti Edumata. \n\n\n\nSudionici imaju priliku postavljati pitanja i razmijeniti mišljenja. \n\n\n\nWebinar se ne snima. Predviđeno trajanje je do 45 minuta (ovisno o sudjelovanju publike). \n\n\n\nWebinar se održava 7. listopada 2024. s početkom u 18.00 sati putem platforme Zoom. Registracija je potrebna i ograničena na 50 slušatelja.
URL:http://www.edumat.eu/event/sto-je-edumat-1/
LOCATION:Zoom
CATEGORIES:Online
ATTACH;FMTTYPE=image/jpeg:http://www.edumat.eu/wp-content/uploads/2024/09/sto-je-edumat.jpg
ORGANIZER;CN="EduMat":MAILTO:edumatshop@gmail.com
END:VEVENT
END:VCALENDAR